BEGIN:VCALENDAR
VERSION:2.0
PRODID:-//LEO Network//Training Calendar//EN
BEGIN:VEVENT
UID:event-3716@leo-network.com
DTSTAMP:20260422T161444Z
DTSTART:20240716T150000Z
DTEND:20240720T000000Z
SUMMARY:Understanding the Mexican Cartels and Narco Cultura
DESCRIPTION:Law Enforcement Training
Hosted by: The Vigilance Project

View event details:
https://www.leo-network.com/event/understanding-the-mexican-cartels-and-narco-cultura-leavenworth-ks-3716/
LOCATION:Leavenworth , KS
URL:https://www.leo-network.com/event/understanding-the-mexican-cartels-and-narco-cultura-leavenworth-ks-3716/
END:VEVENT
END:VCALENDAR
