BEGIN:VCALENDAR
VERSION:2.0
PRODID:-//LEO Network//Training Calendar//EN
BEGIN:VEVENT
UID:event-3721@leo-network.com
DTSTAMP:20260421T140523Z
DTSTART:20240212T160000Z
DTEND:20240213T010000Z
SUMMARY:Marijuana Impaired Driving Detection for Law Enforcement
DESCRIPTION:Law Enforcement Training
Hosted by: Institute of Police Technology and Management (IPTM)

View event details:
https://www.leo-network.com/event/marijuana-impaired-driving-detection-for-law-enforcement-largo-fl-3721/
LOCATION:Largo, FL
URL:https://www.leo-network.com/event/marijuana-impaired-driving-detection-for-law-enforcement-largo-fl-3721/
END:VEVENT
END:VCALENDAR
