BEGIN:VCALENDAR
VERSION:2.0
PRODID:-//LEO Network//Training Calendar//EN
BEGIN:VEVENT
UID:event-3726@leo-network.com
DTSTAMP:20260421T141551Z
DTSTART:20240328T150000Z
DTEND:20240329T000000Z
SUMMARY:Marijuana Impaired Driving Detection for Law Enforcement
DESCRIPTION:Law Enforcement Training
Hosted by: Institute of Police Technology and Management (IPTM)

View event details:
https://www.leo-network.com/event/marijuana-impaired-driving-detection-for-law-enforcement-naples-fl-3726/
LOCATION:Naples, FL
URL:https://www.leo-network.com/event/marijuana-impaired-driving-detection-for-law-enforcement-naples-fl-3726/
END:VEVENT
END:VCALENDAR
