BEGIN:VCALENDAR
VERSION:2.0
PRODID:-//LEO Network//Training Calendar//EN
BEGIN:VEVENT
UID:event-3730@leo-network.com
DTSTAMP:20260421T142015Z
DTSTART:20240213T160000Z
DTEND:20240214T010000Z
SUMMARY:Advanced Marijuana Impaired Driving Detection for Law Enforcement
DESCRIPTION:Law Enforcement Training
Hosted by: Institute of Police Technology and Management (IPTM)

View event details:
https://www.leo-network.com/event/advanced-marijuana-impaired-driving-detection-for-law-enforcement-largo-fl-3730/
LOCATION:Largo, FL
URL:https://www.leo-network.com/event/advanced-marijuana-impaired-driving-detection-for-law-enforcement-largo-fl-3730/
END:VEVENT
END:VCALENDAR
