BEGIN:VCALENDAR
VERSION:2.0
PRODID:-//LEO Network//Training Calendar//EN
BEGIN:VEVENT
UID:event-3745@leo-network.com
DTSTAMP:20260421T141551Z
DTSTART:20240226T160000Z
DTEND:20240229T010000Z
SUMMARY:DWI Detection and Standardized Field Sobriety Testing (SFST)
DESCRIPTION:Law Enforcement Training
Hosted by: Institute of Police Technology and Management (IPTM)

View event details:
https://www.leo-network.com/event/dwi-detection-and-standardized-field-sobriety-testing-sfst-naples-fl-3745/
LOCATION:Naples, FL
URL:https://www.leo-network.com/event/dwi-detection-and-standardized-field-sobriety-testing-sfst-naples-fl-3745/
END:VEVENT
END:VCALENDAR
