BEGIN:VCALENDAR
VERSION:2.0
PRODID:-//LEO Network//Training Calendar//EN
BEGIN:VEVENT
UID:event-3765@leo-network.com
DTSTAMP:20260424T124358Z
DTSTART:20240801T150000Z
DTEND:20240802T000000Z
SUMMARY:Cartel Traps
DESCRIPTION:Law Enforcement Training
Hosted by: Cartel Traps

View event details:
https://www.leo-network.com/event/cartel-traps-los-angeles-ca-3765/
LOCATION:Los Angeles, CA
URL:https://www.leo-network.com/event/cartel-traps-los-angeles-ca-3765/
END:VEVENT
END:VCALENDAR
