BEGIN:VCALENDAR
VERSION:2.0
PRODID:-//LEO Network//Training Calendar//EN
BEGIN:VEVENT
UID:event-3766@leo-network.com
DTSTAMP:20260422T115624Z
DTSTART:20240906T150000Z
DTEND:20240907T000000Z
SUMMARY:Cartel Traps
DESCRIPTION:Law Enforcement Training
Hosted by: Cartel Traps

View event details:
https://www.leo-network.com/event/cartel-traps-provo-ut-3766/
LOCATION:Provo, UT
URL:https://www.leo-network.com/event/cartel-traps-provo-ut-3766/
END:VEVENT
END:VCALENDAR
