BEGIN:VCALENDAR
VERSION:2.0
PRODID:-//LEO Network//Training Calendar//EN
BEGIN:VEVENT
UID:event-3819@leo-network.com
DTSTAMP:20260421T051340Z
DTSTART:20240215T160000Z
DTEND:20240216T010000Z
SUMMARY:Advanced Search & Seizure by Blue to Gold
DESCRIPTION:Law Enforcement Training
Hosted by: Blue to Gold Training

View event details:
https://www.leo-network.com/event/advanced-search-seizure-by-blue-to-gold-castle-rock-co-3819/
LOCATION:Castle Rock, CO
URL:https://www.leo-network.com/event/advanced-search-seizure-by-blue-to-gold-castle-rock-co-3819/
END:VEVENT
END:VCALENDAR
