BEGIN:VCALENDAR
VERSION:2.0
PRODID:-//LEO Network//Training Calendar//EN
BEGIN:VEVENT
UID:event-382@leo-network.com
DTSTAMP:20260421T050746Z
DTSTART:20230202T160000Z
DTEND:20230203T010000Z
SUMMARY:Advanced Search & Seizure
DESCRIPTION:Law Enforcement Training
Hosted by: Blue to Gold Training

View event details:
https://www.leo-network.com/event/advanced-search-seizure-castle-rock-co-382/
LOCATION:Castle Rock, CO
URL:https://www.leo-network.com/event/advanced-search-seizure-castle-rock-co-382/
END:VEVENT
END:VCALENDAR
