BEGIN:VCALENDAR
VERSION:2.0
PRODID:-//LEO Network//Training Calendar//EN
BEGIN:VEVENT
UID:event-383@leo-network.com
DTSTAMP:20260421T052002Z
DTSTART:20230203T160000Z
DTEND:20230204T010000Z
SUMMARY:Bulletproof Report Writing
DESCRIPTION:Law Enforcement Training
Hosted by: Blue to Gold Training

View event details:
https://www.leo-network.com/event/bulletproof-report-writing-castle-rock-co-383/
LOCATION:Castle Rock, CO
URL:https://www.leo-network.com/event/bulletproof-report-writing-castle-rock-co-383/
END:VEVENT
END:VCALENDAR
