BEGIN:VCALENDAR
VERSION:2.0
PRODID:-//LEO Network//Training Calendar//EN
BEGIN:VEVENT
UID:event-3875@leo-network.com
DTSTAMP:20260422T172950Z
DTSTART:20241028T150000Z
DTEND:20241031T000000Z
SUMMARY:3 Day Criminal Interdiction Workshop (Hands-on Vehicle Searches)
DESCRIPTION:Law Enforcement Training
Hosted by: Desert Snow

View event details:
https://www.leo-network.com/event/3-day-criminal-interdiction-workshop-hands-on-vehicle-searches-oklahoma-city-ok-3875/
LOCATION:Oklahoma City, OK
URL:https://www.leo-network.com/event/3-day-criminal-interdiction-workshop-hands-on-vehicle-searches-oklahoma-city-ok-3875/
END:VEVENT
END:VCALENDAR
