BEGIN:VCALENDAR
VERSION:2.0
PRODID:-//LEO Network//Training Calendar//EN
BEGIN:VEVENT
UID:event-3893@leo-network.com
DTSTAMP:20260419T222502Z
DTSTART:20240228T160000Z
DTEND:20240229T010000Z
SUMMARY:Interview & Interrogation Case Law by Blue to Gold
DESCRIPTION:Law Enforcement Training
Hosted by: Blue to Gold Training

View event details:
https://www.leo-network.com/event/interview-interrogation-case-law-by-blue-to-gold-warsaw-in-3893/
LOCATION:Warsaw, IN
URL:https://www.leo-network.com/event/interview-interrogation-case-law-by-blue-to-gold-warsaw-in-3893/
END:VEVENT
END:VCALENDAR
