BEGIN:VCALENDAR
VERSION:2.0
PRODID:-//LEO Network//Training Calendar//EN
BEGIN:VEVENT
UID:event-390@leo-network.com
DTSTAMP:20260421T192700Z
DTSTART:20230208T160000Z
DTEND:20230209T010000Z
SUMMARY:Advanced Traffic Stops
DESCRIPTION:Law Enforcement Training
Hosted by: Blue to Gold Training

View event details:
https://www.leo-network.com/event/advanced-traffic-stops-carlisle-pa-390/
LOCATION:Carlisle, PA
URL:https://www.leo-network.com/event/advanced-traffic-stops-carlisle-pa-390/
END:VEVENT
END:VCALENDAR
