BEGIN:VCALENDAR
VERSION:2.0
PRODID:-//LEO Network//Training Calendar//EN
BEGIN:VEVENT
UID:event-393@leo-network.com
DTSTAMP:20260421T152056Z
DTSTART:20230209T160000Z
DTEND:20230210T010000Z
SUMMARY:Real World De-Escalation
DESCRIPTION:Law Enforcement Training
Hosted by: Blue to Gold Training

View event details:
https://www.leo-network.com/event/real-world-de-escalation-carlisle-pa-393/
LOCATION:Carlisle, PA
URL:https://www.leo-network.com/event/real-world-de-escalation-carlisle-pa-393/
END:VEVENT
END:VCALENDAR
