BEGIN:VCALENDAR
VERSION:2.0
PRODID:-//LEO Network//Training Calendar//EN
BEGIN:VEVENT
UID:event-394@leo-network.com
DTSTAMP:20260421T152559Z
DTSTART:20230209T160000Z
DTEND:20230210T010000Z
SUMMARY:Duty to Intervene
DESCRIPTION:Law Enforcement Training
Hosted by: Blue to Gold Training

View event details:
https://www.leo-network.com/event/duty-to-intervene-carlisle-pa-394/
LOCATION:Carlisle, PA
URL:https://www.leo-network.com/event/duty-to-intervene-carlisle-pa-394/
END:VEVENT
END:VCALENDAR
