BEGIN:VCALENDAR
VERSION:2.0
PRODID:-//LEO Network//Training Calendar//EN
BEGIN:VEVENT
UID:event-3986@leo-network.com
DTSTAMP:20260422T161444Z
DTSTART:20240611T150000Z
DTEND:20240612T000000Z
SUMMARY:Advanced Search & Seizure by Blue to Gold
DESCRIPTION:Law Enforcement Training
Hosted by: Blue to Gold Training

View event details:
https://www.leo-network.com/event/advanced-search-seizure-by-blue-to-gold-leavenworth-ks-3986/
LOCATION:Leavenworth, KS
URL:https://www.leo-network.com/event/advanced-search-seizure-by-blue-to-gold-leavenworth-ks-3986/
END:VEVENT
END:VCALENDAR
