BEGIN:VCALENDAR
VERSION:2.0
PRODID:-//LEO Network//Training Calendar//EN
BEGIN:VEVENT
UID:event-3988@leo-network.com
DTSTAMP:20260422T155633Z
DTSTART:20240613T150000Z
DTEND:20240614T000000Z
SUMMARY:Real World De-Escalation by Blue to Gold
DESCRIPTION:Law Enforcement Training
Hosted by: Blue to Gold Training

View event details:
https://www.leo-network.com/event/real-world-de-escalation-by-blue-to-gold-leavenworth-ks-3988/
LOCATION:Leavenworth, KS
URL:https://www.leo-network.com/event/real-world-de-escalation-by-blue-to-gold-leavenworth-ks-3988/
END:VEVENT
END:VCALENDAR
