BEGIN:VCALENDAR
VERSION:2.0
PRODID:-//LEO Network//Training Calendar//EN
BEGIN:VEVENT
UID:event-3989@leo-network.com
DTSTAMP:20260422T161337Z
DTSTART:20240613T150000Z
DTEND:20240614T000000Z
SUMMARY:Duty to Intervene by Blue to Gold
DESCRIPTION:Law Enforcement Training
Hosted by: Blue to Gold Training

View event details:
https://www.leo-network.com/event/duty-to-intervene-by-blue-to-gold-leavenworth-ks-3989/
LOCATION:Leavenworth, KS
URL:https://www.leo-network.com/event/duty-to-intervene-by-blue-to-gold-leavenworth-ks-3989/
END:VEVENT
END:VCALENDAR
