BEGIN:VCALENDAR
VERSION:2.0
PRODID:-//LEO Network//Training Calendar//EN
BEGIN:VEVENT
UID:event-4002@leo-network.com
DTSTAMP:20260422T155434Z
DTSTART:20240625T150000Z
DTEND:20240626T000000Z
SUMMARY:Emerging Legal Trends by Blue to Gold
DESCRIPTION:Law Enforcement Training
Hosted by: Blue to Gold Training

View event details:
https://www.leo-network.com/event/emerging-legal-trends-by-blue-to-gold-joplin-mo-4002/
LOCATION:Joplin, MO
URL:https://www.leo-network.com/event/emerging-legal-trends-by-blue-to-gold-joplin-mo-4002/
END:VEVENT
END:VCALENDAR
