BEGIN:VCALENDAR
VERSION:2.0
PRODID:-//LEO Network//Training Calendar//EN
BEGIN:VEVENT
UID:event-4003@leo-network.com
DTSTAMP:20260422T161516Z
DTSTART:20240626T150000Z
DTEND:20240627T000000Z
SUMMARY:Bulletproof Courtroom Testimony by Blue to Gold
DESCRIPTION:Law Enforcement Training
Hosted by: Blue to Gold Training

View event details:
https://www.leo-network.com/event/bulletproof-courtroom-testimony-by-blue-to-gold-joplin-mo-4003/
LOCATION:Joplin, MO
URL:https://www.leo-network.com/event/bulletproof-courtroom-testimony-by-blue-to-gold-joplin-mo-4003/
END:VEVENT
END:VCALENDAR
