BEGIN:VCALENDAR
VERSION:2.0
PRODID:-//LEO Network//Training Calendar//EN
BEGIN:VEVENT
UID:event-4010@leo-network.com
DTSTAMP:20260422T144447Z
DTSTART:20240723T150000Z
DTEND:20240724T000000Z
SUMMARY:Advanced Search & Seizure by Blue to Gold
DESCRIPTION:Law Enforcement Training
Hosted by: Blue to Gold Training

View event details:
https://www.leo-network.com/event/advanced-search-seizure-by-blue-to-gold-medina-oh-4010/
LOCATION:Medina, OH
URL:https://www.leo-network.com/event/advanced-search-seizure-by-blue-to-gold-medina-oh-4010/
END:VEVENT
END:VCALENDAR
