BEGIN:VCALENDAR
VERSION:2.0
PRODID:-//LEO Network//Training Calendar//EN
BEGIN:VEVENT
UID:event-4011@leo-network.com
DTSTAMP:20260422T144629Z
DTSTART:20240724T150000Z
DTEND:20240725T000000Z
SUMMARY:Advanced Traffic Stops by Blue to Gold
DESCRIPTION:Law Enforcement Training
Hosted by: Blue to Gold Training

View event details:
https://www.leo-network.com/event/advanced-traffic-stops-by-blue-to-gold-medina-oh-4011/
LOCATION:Medina, OH
URL:https://www.leo-network.com/event/advanced-traffic-stops-by-blue-to-gold-medina-oh-4011/
END:VEVENT
END:VCALENDAR
