BEGIN:VCALENDAR
VERSION:2.0
PRODID:-//LEO Network//Training Calendar//EN
BEGIN:VEVENT
UID:event-4024@leo-network.com
DTSTAMP:20260423T100541Z
DTSTART:20240827T150000Z
DTEND:20240828T000000Z
SUMMARY:Advanced Search & Seizure by Blue to Gold
DESCRIPTION:Law Enforcement Training
Hosted by: Blue to Gold Training

View event details:
https://www.leo-network.com/event/advanced-search-seizure-by-blue-to-gold-saint-albans-wv-4024/
LOCATION:Saint Albans, WV
URL:https://www.leo-network.com/event/advanced-search-seizure-by-blue-to-gold-saint-albans-wv-4024/
END:VEVENT
END:VCALENDAR
