BEGIN:VCALENDAR
VERSION:2.0
PRODID:-//LEO Network//Training Calendar//EN
BEGIN:VEVENT
UID:event-4026@leo-network.com
DTSTAMP:20260423T111522Z
DTSTART:20240829T150000Z
DTEND:20240830T000000Z
SUMMARY:Bulletproof Report Writing by Blue to Gold
DESCRIPTION:Law Enforcement Training
Hosted by: Blue to Gold Training

View event details:
https://www.leo-network.com/event/bulletproof-report-writing-by-blue-to-gold-saint-albans-wv-4026/
LOCATION:Saint Albans, WV
URL:https://www.leo-network.com/event/bulletproof-report-writing-by-blue-to-gold-saint-albans-wv-4026/
END:VEVENT
END:VCALENDAR
