BEGIN:VCALENDAR
VERSION:2.0
PRODID:-//LEO Network//Training Calendar//EN
BEGIN:VEVENT
UID:event-410@leo-network.com
DTSTAMP:20260419T222436Z
DTSTART:20230228T160000Z
DTEND:20230301T010000Z
SUMMARY:Advanced Search & Seizure
DESCRIPTION:Law Enforcement Training
Hosted by: Blue to Gold Training

View event details:
https://www.leo-network.com/event/advanced-search-seizure-warsaw-in-410/
LOCATION:Warsaw, IN
URL:https://www.leo-network.com/event/advanced-search-seizure-warsaw-in-410/
END:VEVENT
END:VCALENDAR
