BEGIN:VCALENDAR
VERSION:2.0
PRODID:-//LEO Network//Training Calendar//EN
BEGIN:VEVENT
UID:event-4124@leo-network.com
DTSTAMP:20260421T152026Z
DTSTART:20240318T150000Z
DTEND:20240319T000000Z
SUMMARY:Pedestrians, Consensuals, Pedalcycles
DESCRIPTION:Law Enforcement Training
Hosted by: Petrucci Solutions LLC

View event details:
https://www.leo-network.com/event/pedestrians-consensuals-pedalcycles-scranton-pa-4124/
LOCATION:Scranton, PA
URL:https://www.leo-network.com/event/pedestrians-consensuals-pedalcycles-scranton-pa-4124/
END:VEVENT
END:VCALENDAR
