BEGIN:VCALENDAR
VERSION:2.0
PRODID:-//LEO Network//Training Calendar//EN
BEGIN:VEVENT
UID:event-413@leo-network.com
DTSTAMP:20260419T221159Z
DTSTART:20230301T160000Z
DTEND:20230302T010000Z
SUMMARY:Advanced Traffic Stops
DESCRIPTION:Law Enforcement Training
Hosted by: Blue to Gold Training

View event details:
https://www.leo-network.com/event/advanced-traffic-stops-warsaw-in-413/
LOCATION:Warsaw, IN
URL:https://www.leo-network.com/event/advanced-traffic-stops-warsaw-in-413/
END:VEVENT
END:VCALENDAR
