BEGIN:VCALENDAR
VERSION:2.0
PRODID:-//LEO Network//Training Calendar//EN
BEGIN:VEVENT
UID:event-4133@leo-network.com
DTSTAMP:20260422T132136Z
DTSTART:20240502T150000Z
DTEND:20240503T000000Z
SUMMARY:Bulletproof Report Writing by Blue to Gold
DESCRIPTION:Law Enforcement Training
Hosted by: Blue to Gold Training

View event details:
https://www.leo-network.com/event/bulletproof-report-writing-by-blue-to-gold-dickinson-nd-4133/
LOCATION:Dickinson, ND
URL:https://www.leo-network.com/event/bulletproof-report-writing-by-blue-to-gold-dickinson-nd-4133/
END:VEVENT
END:VCALENDAR
