BEGIN:VCALENDAR
VERSION:2.0
PRODID:-//LEO Network//Training Calendar//EN
BEGIN:VEVENT
UID:event-4134@leo-network.com
DTSTAMP:20260422T132135Z
DTSTART:20240503T150000Z
DTEND:20240504T000000Z
SUMMARY:Bulletproof Courtroom Testimony by Blue to Gold
DESCRIPTION:Law Enforcement Training
Hosted by: Blue to Gold Training

View event details:
https://www.leo-network.com/event/bulletproof-courtroom-testimony-by-blue-to-gold-dickinson-nd-4134/
LOCATION:Dickinson, ND
URL:https://www.leo-network.com/event/bulletproof-courtroom-testimony-by-blue-to-gold-dickinson-nd-4134/
END:VEVENT
END:VCALENDAR
