BEGIN:VCALENDAR
VERSION:2.0
PRODID:-//LEO Network//Training Calendar//EN
BEGIN:VEVENT
UID:event-414@leo-network.com
DTSTAMP:20260419T204111Z
DTSTART:20230301T160000Z
DTEND:20230302T010000Z
SUMMARY:Emerging Legal Trends
DESCRIPTION:Law Enforcement Training
Hosted by: Blue to Gold Training

View event details:
https://www.leo-network.com/event/emerging-legal-trends-st-paul-mn-414/
LOCATION:St. Paul, MN
URL:https://www.leo-network.com/event/emerging-legal-trends-st-paul-mn-414/
END:VEVENT
END:VCALENDAR
