BEGIN:VCALENDAR
VERSION:2.0
PRODID:-//LEO Network//Training Calendar//EN
BEGIN:VEVENT
UID:event-416@leo-network.com
DTSTAMP:20260419T221944Z
DTSTART:20230302T160000Z
DTEND:20230303T010000Z
SUMMARY:Advanced Search & Seizure
DESCRIPTION:Law Enforcement Training
Hosted by: Blue to Gold Training

View event details:
https://www.leo-network.com/event/advanced-search-seizure-warsaw-in-416/
LOCATION:Warsaw, IN
URL:https://www.leo-network.com/event/advanced-search-seizure-warsaw-in-416/
END:VEVENT
END:VCALENDAR
