BEGIN:VCALENDAR
VERSION:2.0
PRODID:-//LEO Network//Training Calendar//EN
BEGIN:VEVENT
UID:event-4171@leo-network.com
DTSTAMP:20260423T115226Z
DTSTART:20240503T150000Z
DTEND:20240504T000000Z
SUMMARY:The Narc
DESCRIPTION:Law Enforcement Training
Hosted by: The Narc 101

View event details:
https://www.leo-network.com/event/the-narc-marion-nc-4171/
LOCATION:Marion, NC
URL:https://www.leo-network.com/event/the-narc-marion-nc-4171/
END:VEVENT
END:VCALENDAR
