BEGIN:VCALENDAR
VERSION:2.0
PRODID:-//LEO Network//Training Calendar//EN
BEGIN:VEVENT
UID:event-4173@leo-network.com
DTSTAMP:20260423T084950Z
DTSTART:20240406T150000Z
DTEND:20240407T000000Z
SUMMARY:Tactical Handgun- GUNS1- #24-09
DESCRIPTION:Law Enforcement Training
Hosted by: Lighthorse Tactical, LLC

View event details:
https://www.leo-network.com/event/tactical-handgun-guns1-24-09-calera-al-4173/
LOCATION:Calera, AL
URL:https://www.leo-network.com/event/tactical-handgun-guns1-24-09-calera-al-4173/
END:VEVENT
END:VCALENDAR
