BEGIN:VCALENDAR
VERSION:2.0
PRODID:-//LEO Network//Training Calendar//EN
BEGIN:VEVENT
UID:event-4174@leo-network.com
DTSTAMP:20260423T084913Z
DTSTART:20241026T150000Z
DTEND:20241027T000000Z
SUMMARY:Working Angles & Spaces Intro (WASP1) #24-04
DESCRIPTION:Law Enforcement Training
Hosted by: Lighthorse Tactical, LLC

View event details:
https://www.leo-network.com/event/working-angles-spaces-intro-wasp1-24-04-calera-al-4174/
LOCATION:Calera, AL
URL:https://www.leo-network.com/event/working-angles-spaces-intro-wasp1-24-04-calera-al-4174/
END:VEVENT
END:VCALENDAR
