BEGIN:VCALENDAR
VERSION:2.0
PRODID:-//LEO Network//Training Calendar//EN
BEGIN:VEVENT
UID:event-4175@leo-network.com
DTSTAMP:20260423T084913Z
DTSTART:20240302T160000Z
DTEND:20240303T010000Z
SUMMARY:Savage Labs- Alpha Module
DESCRIPTION:Law Enforcement Training
Hosted by: Lighthorse Tactical, LLC

View event details:
https://www.leo-network.com/event/savage-labs-alpha-module-calera-al-4175/
LOCATION:Calera, AL
URL:https://www.leo-network.com/event/savage-labs-alpha-module-calera-al-4175/
END:VEVENT
END:VCALENDAR
