BEGIN:VCALENDAR
VERSION:2.0
PRODID:-//LEO Network//Training Calendar//EN
BEGIN:VEVENT
UID:event-418@leo-network.com
DTSTAMP:20260419T204111Z
DTSTART:20230302T160000Z
DTEND:20230303T010000Z
SUMMARY:Bulletproof Report Writing
DESCRIPTION:Law Enforcement Training
Hosted by: Blue to Gold Training

View event details:
https://www.leo-network.com/event/bulletproof-report-writing-st-paul-mn-418/
LOCATION:St. Paul, MN
URL:https://www.leo-network.com/event/bulletproof-report-writing-st-paul-mn-418/
END:VEVENT
END:VCALENDAR
