BEGIN:VCALENDAR
VERSION:2.0
PRODID:-//LEO Network//Training Calendar//EN
BEGIN:VEVENT
UID:event-4187@leo-network.com
DTSTAMP:20260421T135625Z
DTSTART:20240212T160000Z
DTEND:20240217T010000Z
SUMMARY:Criminal Investigations Using Cellular Technologies Basic 40 Hour Cellular Investigations Course
DESCRIPTION:Law Enforcement Training
Hosted by: LexisNexis Risk Solutions

View event details:
https://www.leo-network.com/event/criminal-investigations-using-cellular-technologies-basic-40-hour-cellular-investigations-course-largo-fl-4187/
LOCATION:Largo, FL
URL:https://www.leo-network.com/event/criminal-investigations-using-cellular-technologies-basic-40-hour-cellular-investigations-course-largo-fl-4187/
END:VEVENT
END:VCALENDAR
