BEGIN:VCALENDAR
VERSION:2.0
PRODID:-//LEO Network//Training Calendar//EN
BEGIN:VEVENT
UID:event-4195@leo-network.com
DTSTAMP:20260421T210318Z
DTSTART:20240415T150000Z
DTEND:20240420T000000Z
SUMMARY:Criminal Investigations Using Cellular Technologies Basic 40 Hour Cellular Investigations Course
DESCRIPTION:Law Enforcement Training
Hosted by: LexisNexis Risk Solutions

View event details:
https://www.leo-network.com/event/criminal-investigations-using-cellular-technologies-basic-40-hour-cellular-investigations-course-stamford-ct-4195/
LOCATION:Stamford, CT
URL:https://www.leo-network.com/event/criminal-investigations-using-cellular-technologies-basic-40-hour-cellular-investigations-course-stamford-ct-4195/
END:VEVENT
END:VCALENDAR
