BEGIN:VCALENDAR
VERSION:2.0
PRODID:-//LEO Network//Training Calendar//EN
BEGIN:VEVENT
UID:event-4202@leo-network.com
DTSTAMP:20260422T202326Z
DTSTART:20240416T150000Z
DTEND:20240419T000000Z
SUMMARY:Leveraging Mobile Device Data in Exigent Situations Course
DESCRIPTION:Law Enforcement Training
Hosted by: LexisNexis Risk Solutions

View event details:
https://www.leo-network.com/event/leveraging-mobile-device-data-in-exigent-situations-course-peachtree-city-ga-4202/
LOCATION:Peachtree City, GA
URL:https://www.leo-network.com/event/leveraging-mobile-device-data-in-exigent-situations-course-peachtree-city-ga-4202/
END:VEVENT
END:VCALENDAR
