BEGIN:VCALENDAR
VERSION:2.0
PRODID:-//LEO Network//Training Calendar//EN
BEGIN:VEVENT
UID:event-4208@leo-network.com
DTSTAMP:20260421T141503Z
DTSTART:20240409T150000Z
DTEND:20240412T000000Z
SUMMARY:Fugitive Mission Planning & Cellular Investigative Techniques Course
DESCRIPTION:Law Enforcement Training
Hosted by: LexisNexis Risk Solutions

View event details:
https://www.leo-network.com/event/fugitive-mission-planning-cellular-investigative-techniques-course-daytona-beach-fl-4208/
LOCATION:Daytona Beach, FL
URL:https://www.leo-network.com/event/fugitive-mission-planning-cellular-investigative-techniques-course-daytona-beach-fl-4208/
END:VEVENT
END:VCALENDAR
