BEGIN:VCALENDAR
VERSION:2.0
PRODID:-//LEO Network//Training Calendar//EN
BEGIN:VEVENT
UID:event-4270@leo-network.com
DTSTAMP:20260424T171015Z
DTSTART:20240213T160000Z
DTEND:20240214T010000Z
SUMMARY:Behavior Symptom Analysis During Roadside Interviews
DESCRIPTION:Law Enforcement Training
Hosted by: Southeast Training

View event details:
https://www.leo-network.com/event/behavior-symptom-analysis-during-roadside-interviews-anaheim-ca-4270/
LOCATION:Anaheim, CA
URL:https://www.leo-network.com/event/behavior-symptom-analysis-during-roadside-interviews-anaheim-ca-4270/
END:VEVENT
END:VCALENDAR
