BEGIN:VCALENDAR
VERSION:2.0
PRODID:-//LEO Network//Training Calendar//EN
BEGIN:VEVENT
UID:event-4271@leo-network.com
DTSTAMP:20260424T170933Z
DTSTART:20240214T160000Z
DTEND:20240215T010000Z
SUMMARY:Transnational Criminal Organization Traps
DESCRIPTION:Law Enforcement Training
Hosted by: Southeast Training

View event details:
https://www.leo-network.com/event/transnational-criminal-organization-traps-anaheim-ca-4271/
LOCATION:Anaheim, CA
URL:https://www.leo-network.com/event/transnational-criminal-organization-traps-anaheim-ca-4271/
END:VEVENT
END:VCALENDAR
