BEGIN:VCALENDAR
VERSION:2.0
PRODID:-//LEO Network//Training Calendar//EN
BEGIN:VEVENT
UID:event-4277@leo-network.com
DTSTAMP:20260421T203411Z
DTSTART:20241021T150000Z
DTEND:20241026T000000Z
SUMMARY:Pedestrian/Bicycle Crash Investigation - Level I
DESCRIPTION:Law Enforcement Training
Hosted by: Institute of Police Technology and Management (IPTM)

View event details:
https://www.leo-network.com/event/pedestrian-bicycle-crash-investigation-level-i-windsor-locks-ct-4277/
LOCATION:Windsor Locks, CT
URL:https://www.leo-network.com/event/pedestrian-bicycle-crash-investigation-level-i-windsor-locks-ct-4277/
END:VEVENT
END:VCALENDAR
