BEGIN:VCALENDAR
VERSION:2.0
PRODID:-//LEO Network//Training Calendar//EN
BEGIN:VEVENT
UID:event-4287@leo-network.com
DTSTAMP:20260421T204128Z
DTSTART:20240916T150000Z
DTEND:20240921T000000Z
SUMMARY:Heavy Vehicle Electronic Control Module Data Use in Crash Reconstruction 
DESCRIPTION:Law Enforcement Training
Hosted by: Institute of Police Technology and Management (IPTM)

View event details:
https://www.leo-network.com/event/heavy-vehicle-electronic-control-module-data-use-in-crash-reconstruction-meriden-ct-4287/
LOCATION:Meriden, CT
URL:https://www.leo-network.com/event/heavy-vehicle-electronic-control-module-data-use-in-crash-reconstruction-meriden-ct-4287/
END:VEVENT
END:VCALENDAR
