BEGIN:VCALENDAR
VERSION:2.0
PRODID:-//LEO Network//Training Calendar//EN
BEGIN:VEVENT
UID:event-4288@leo-network.com
DTSTAMP:20260421T204013Z
DTSTART:20240429T150000Z
DTEND:20240404T000000Z
SUMMARY:Occupant Kinematics for the Traffic Crash Reconstructionist
DESCRIPTION:Law Enforcement Training
Hosted by: Institute of Police Technology and Management (IPTM)

View event details:
https://www.leo-network.com/event/occupant-kinematics-for-the-traffic-crash-reconstructionist-windsor-locks-ct-4288/
LOCATION:Windsor Locks, CT
URL:https://www.leo-network.com/event/occupant-kinematics-for-the-traffic-crash-reconstructionist-windsor-locks-ct-4288/
END:VEVENT
END:VCALENDAR
