BEGIN:VCALENDAR
VERSION:2.0
PRODID:-//LEO Network//Training Calendar//EN
BEGIN:VEVENT
UID:event-430@leo-network.com
DTSTAMP:20260420T201649Z
DTSTART:20230315T150000Z
DTEND:20230316T000000Z
SUMMARY:Advanced Traffic Stops
DESCRIPTION:Law Enforcement Training
Hosted by: Blue to Gold Training

View event details:
https://www.leo-network.com/event/advanced-traffic-stops-bel-air-md-430/
LOCATION:Bel Air, MD
URL:https://www.leo-network.com/event/advanced-traffic-stops-bel-air-md-430/
END:VEVENT
END:VCALENDAR
