BEGIN:VCALENDAR
VERSION:2.0
PRODID:-//LEO Network//Training Calendar//EN
BEGIN:VEVENT
UID:event-431@leo-network.com
DTSTAMP:20260420T203954Z
DTSTART:20230316T150000Z
DTEND:20230317T000000Z
SUMMARY:Advanced Criminal Investigations
DESCRIPTION:Law Enforcement Training
Hosted by: Blue to Gold Training

View event details:
https://www.leo-network.com/event/advanced-criminal-investigations-bel-air-md-431/
LOCATION:Bel Air, MD
URL:https://www.leo-network.com/event/advanced-criminal-investigations-bel-air-md-431/
END:VEVENT
END:VCALENDAR
