BEGIN:VCALENDAR
VERSION:2.0
PRODID:-//LEO Network//Training Calendar//EN
BEGIN:VEVENT
UID:event-4318@leo-network.com
DTSTAMP:20260421T112612Z
DTSTART:20241019T150000Z
DTEND:20241021T000000Z
SUMMARY:RDS Pistol Instructor 
DESCRIPTION:Law Enforcement Training
Hosted by: Evolution Training Solutions

View event details:
https://www.leo-network.com/event/rds-pistol-instructor-freehold-nj-4318/
LOCATION:Freehold, NJ
URL:https://www.leo-network.com/event/rds-pistol-instructor-freehold-nj-4318/
END:VEVENT
END:VCALENDAR
