BEGIN:VCALENDAR
VERSION:2.0
PRODID:-//LEO Network//Training Calendar//EN
BEGIN:VEVENT
UID:event-4319@leo-network.com
DTSTAMP:20260421T112612Z
DTSTART:20240624T150000Z
DTEND:20240626T000000Z
SUMMARY:RDS Pistol Instructor 
DESCRIPTION:Law Enforcement Training
Hosted by: Evolution Training Solutions

View event details:
https://www.leo-network.com/event/rds-pistol-instructor-bucks-co-pa-4319/
LOCATION:Bucks Co., PA
URL:https://www.leo-network.com/event/rds-pistol-instructor-bucks-co-pa-4319/
END:VEVENT
END:VCALENDAR
