BEGIN:VCALENDAR
VERSION:2.0
PRODID:-//LEO Network//Training Calendar//EN
BEGIN:VEVENT
UID:event-4321@leo-network.com
DTSTAMP:20260421T135642Z
DTSTART:20240229T160000Z
DTEND:20240202T010000Z
SUMMARY:Advanced Roadside Impaired Driving Enforcement
DESCRIPTION:Law Enforcement Training
Hosted by: Institute of Police Technology and Management (IPTM)

View event details:
https://www.leo-network.com/event/advanced-roadside-impaired-driving-enforcement-naples-fl-4321/
LOCATION:Naples, FL
URL:https://www.leo-network.com/event/advanced-roadside-impaired-driving-enforcement-naples-fl-4321/
END:VEVENT
END:VCALENDAR
